BEGIN:VCALENDAR
VERSION:2.0
PRODID:-//wp-events-plugin.com//7.2.1//EN
BEGIN:VEVENT
UID:22@kellydays.com
DTSTART:20230904T100000Z
DTEND:20230904T140000Z
DTSTAMP:20230821T121359Z
URL:https://kellydays.com/events/splash-day/
SUMMARY:Splash Day
DESCRIPTION:
ATTACH;FMTTYPE=image/jpeg:https://kellydays.com/wp-content/uploads/2023/08
 /SPLASH.jpeg
LOCATION:Owaissa Bauer Park\, 17001 SW 264th St\, Homestead\, Fl\, 33031\, 
 United States
GEO:25.523082;-80.467637
X-APPLE-STRUCTURED-LOCATION;VALUE=URI;X-ADDRESS=17001 SW 264th St\, Homeste
 ad\, Fl\, 33031\, United States;X-APPLE-RADIUS=100;X-TITLE=Owaissa Bauer P
 ark:geo:25.523082,-80.467637
END:VEVENT
END:VCALENDAR