BEGIN:VCALENDAR
VERSION:2.0
PRODID:-//wp-events-plugin.com//7.2.1//EN
BEGIN:VEVENT
UID:23@kellydays.com
DTSTART:20230902T203000Z
DTEND:20230902T203000Z
DTSTAMP:20230821T121307Z
URL:https://kellydays.com/events/roof-top-live/
SUMMARY:Roof Top LIVE
DESCRIPTION:
ATTACH;FMTTYPE=image/jpeg:https://kellydays.com/wp-content/uploads/2023/08
 /FIRE-B-SHOW.jpeg
LOCATION:Hard Rock\, 1 Seminole Way \, Hollywood\, FL\, 33314\, United Stat
 es
GEO:26.050816;-80.211548
X-APPLE-STRUCTURED-LOCATION;VALUE=URI;X-ADDRESS=1 Seminole Way \, Hollywood
 \, FL\, 33314\, United States;X-APPLE-RADIUS=100;X-TITLE=Hard Rock:geo:26.
 050816,-80.211548
END:VEVENT
END:VCALENDAR