BEGIN:VCALENDAR
VERSION:2.0
PRODID:-//wp-events-plugin.com//7.2.1//EN
BEGIN:VEVENT
UID:24@kellydays.com
DTSTART:20231209T100000Z
DTEND:20231209T180000Z
DTSTAMP:20231019T153533Z
URL:https://kellydays.com/events/pigroastbowl/
SUMMARY:2023 SFLPBA Pig Roast Series
DESCRIPTION:\nSave the Date for the Back the Blue Pig Cook Off Competition!
 \nEVENTBRITE LINK\nWHEN: December 9th\, 2023\nLocation: Tropical Park 7900
  SW 40th St Miami\, FL 33155\nBiggest pig roast competition in South Flori
 da for our First Responders! \n100+ teams\n1 champion\nThe Love Fund is a
  charitable 501(cx3) organization that is affiliated with the South Florid
 a PBA and aids fallen\nOfficers and their families when no other funds are
  available to do so. Any money collected by the love fund\nHelps pay for t
 he funerals of officers killed in the line of duty\, education for the chi
 ldren of fallen officers and\nPsychological counseling for officers and im
 mediate family members impacted by the stress of the job.\nLearn more abou
 t the Love Fund here: The Love Fund Postcard\nEvent will feature:\n\n\n 	L
 ive music\n 	Food tastings\n 	Kids activities\n 	Pop-up shops\n 	Family fu
 n\n 	Saturday funday\n\n\n\n&nbsp\;\nPig Cook Off Competition Form\nDownlo
 ad Now\n&nbsp\;\nPig Cook Off Credit Card Form\nDownload Now\n&nbsp\;\nInt
 erested in Sponsoring the event learn more here:\n Download Now\nIf you ar
 e interested in being a part of the PIG ROAST BOWL SERIES SOUTH\nFLORIDA P
 BA LAW ENFORCEMENT EDITION 2023\, please contact:\nLouis Fonseca\nCo-Found
 er\nC: 305.796.1744\nE: Louisfonseca28@gmail.com\nRoberto “Kiko” Suare
 z\nCo-Founder\nC: 305.244.0591\nE: Rikoconkiko@gmail.com\nKim Gregson\nSou
 th Florida PBA\nO: 305.593.0044\nE: Kim@sflpba.org
ATTACH;FMTTYPE=image/jpeg:https://kellydays.com/wp-content/uploads/2023/08
 /KellyDays-Pig-Roast-Event-1.png
LOCATION:Tropical Park\, 7900 SW 40th St\, Miami\, FL\, 33155\, United Stat
 es
GEO:25.725961;-80.323508
X-APPLE-STRUCTURED-LOCATION;VALUE=URI;X-ADDRESS=7900 SW 40th St\, Miami\, F
 L\, 33155\, United States;X-APPLE-RADIUS=100;X-TITLE=Tropical Park:geo:25.
 725961,-80.323508
END:VEVENT
END:VCALENDAR