BEGIN:VCALENDAR
VERSION:2.0
PRODID:-//wp-events-plugin.com//7.2.1//EN
BEGIN:VEVENT
UID:21@kellydays.com
DTSTART:20231021T090000Z
DTEND:20231021T160000Z
DTSTAMP:20230723T101259Z
URL:https://kellydays.com/events/pickleball-tournament/
SUMMARY:Delray Beach FF Pickleball Tournament
DESCRIPTION:\n\nDELAY BEACH\nFIREFIGHTERS BENEVOLENT\nPickleball Tournament
 \n3 ROC\nPresented by\nFIRST DUE ROOFING\nOct 21st\n0900 - 1600\nRegistrat
 ion $75\n1000 Coconut Creek\nBlvd\, Bldg 60\n- Round robin\n- 5 Guaranteed
  games\n- 3.5 below\; 4.0 +\n- Swag bag\n-1 hour open play\n- Lunch\n- 1st
 \, 2nd 3rd place medals\n-Championship Trophy\nPESKIPPA\n9.\nSpectators en
 couraged!\n50% off first responder\nDiadem paddles\nCalling all Firefighte
 rs\,\nPolice and Military\nfor a day of fun filled\ncompetitive fellowship
 \nat the new Diadem\nPickleball Complex!\nALL PROCEEDS BENEFITING\nTHE BRE
 AST CANCER\nRESEARCH FOUNDATIONS\nSign up by email to Jessica at\nJrs3189@
 yahoo.com\nPlease email the following information:\n- Name\n- Firefighter\
 , Police or Military?\n- Level: 3.5 below or 4.0 + - Department or Branch
ATTACH;FMTTYPE=image/jpeg:https://kellydays.com/wp-content/uploads/2023/07
 /IMG_8222.jpg
LOCATION:bldg 60\, 1000 Coconut creek blvd\, Coconut Creek\, Florida\, 3306
 6\, United States
GEO:26.241325;-80.173949
X-APPLE-STRUCTURED-LOCATION;VALUE=URI;X-ADDRESS=1000 Coconut creek blvd\, C
 oconut Creek\, Florida\, 33066\, United States;X-APPLE-RADIUS=100;X-TITLE=
 bldg 60:geo:26.241325,-80.173949
END:VEVENT
END:VCALENDAR