BEGIN:VCALENDAR
VERSION:2.0
PRODID:-//wp-events-plugin.com//7.2.1//EN
BEGIN:VEVENT
UID:16@kellydays.com
DTSTART:20230707T110000Z
DTEND:20230707T140000Z
DTSTAMP:20230616T111944Z
URL:https://kellydays.com/events/kelly-days-paddle-out/
SUMMARY:Kelly Days Paddle out
DESCRIPTION:\n\nPADDLE THE FLORIDA KEYS WITH US!\nFRIDAY JULY 7. 2023\nDEPA
 RTURE FROM DOCK: 11AM\n90773 OLD HWY\, TAVERNIER\, FL 33070\nSIGN-UP IS $5
 0\n\nLink to purchase tickets: https://www.eventbrite.com/e/1st-annual-kel
 ly-days-paddle-out-tickets-649005431717 (INCLUDES PADDLE BOARD AND/OR KAYA
 K)\n\n\n\n&nbsp\;\n\n&nbsp\;
ATTACH;FMTTYPE=image/jpeg:https://kellydays.com/wp-content/uploads/2023/06
 /KELLY-DAYS-PADDLE-OUT.png
LOCATION:Tavernier creek\, 90773 OLD HWY\, Tavernier\, FL\, 33037\, United 
 States
GEO:25.002295;-80.532081
X-APPLE-STRUCTURED-LOCATION;VALUE=URI;X-ADDRESS=90773 OLD HWY\, Tavernier\,
  FL\, 33037\, United States;X-APPLE-RADIUS=100;X-TITLE=Tavernier creek:geo
 :25.002295,-80.532081
END:VEVENT
END:VCALENDAR