BEGIN:VCALENDAR
VERSION:2.0
PRODID:-//wp-events-plugin.com//7.2.1//EN
BEGIN:VEVENT
UID:19@kellydays.com
DTSTART:20230910T060000Z
DTEND:20230910T170000Z
DTSTAMP:20230616T132625Z
URL:https://kellydays.com/events/https-www-active-com-hollywood-fl-running
 -distance-running-races-18th-annual-runner-s-depot-fire-hero-5k-2023int72-
 3-a11/
SUMMARY:18th Annual Runner's Depot Fire Hero 5K
DESCRIPTION:\n\n\nAbout this event\nLink to purchase tickets: https://www.a
 ctive.com/hollywood-fl/running/distance-running-races/18th-annual-runner-s
 -depot-fire-hero-5k-2023?int=72-3-A11\n\n\n\nEvent Reminder\n\n\n\n\n\n\n\
 nThe Runner's Depot Fire Hero 5K Run begins at Charnow Park on Hollywood
  Beach. It is a flat and fast\, out and back\, 3.1 mile race along the bea
 utiful Hollywood Beach Broadwalk.\n\nAn Oversized Race Beach Towel will be
  given to the FIRST 1000 registered participants! Quantities may be limite
 d for those who register on race day. All FINISHERS will receive a Finishe
 r Medal!\n\nPost-race festivities include a BRUNCH ON THE BEACH!\n\n$30 Pr
 e-Registration Fee • $35 on Race Day\n\nAll Proceeds from this event wil
 l be donated to the National Fallen Firefighters Foundation. http://www.fi
 rehero.org\nEvent details and schedule\n&nbsp\;\n\nRaceday Registration\, 
 if still available\, and packet pick-up will open at 6:00AM. Race starts p
 romptly at 7:00AM\n\nParking is available at the Garfield Street Parking G
 arage\, at North Beach Park at Sheridan Street\, and along the side street
 s. Arriving early and carpooling are highly recommended.\n\nPacket Pick-up
  will be available at Runner's Depot - Davie on Saturday\, 9/9/23 from 10A
 M-5PM.\n\n2233 S. University Drive\, Davie FL 33324\n\n\n\n\n\nWhen\n\n\n\
 nSeptember 10\, 2023\n\n&nbsp\;\n\nSunday\n\nAdd to calendar\n\n\n\n\nLoca
 tion\n\n\nHollywood Beach Broadwalk\nCharnow Park 300 Connecticut Street 
 Hollywood\, FL  33019View Map\n\n\n\n\n\n
ATTACH;FMTTYPE=image/jpeg:https://kellydays.com/wp-content/uploads/2023/06
 /images.jpeg
LOCATION:Charnow Park\,  300 Connecticut St\, Hollywood\, Florida\, United 
 States
GEO:26.022256;-80.11577
X-APPLE-STRUCTURED-LOCATION;VALUE=URI;X-ADDRESS= 300 Connecticut St\, Holly
 wood\, Florida\, United States;X-APPLE-RADIUS=100;X-TITLE=Charnow Park:geo
 :26.022256,-80.11577
END:VEVENT
END:VCALENDAR