BEGIN:VCALENDAR
VERSION:2.0
PRODID:-//wp-events-plugin.com//7.2.1//EN
BEGIN:VEVENT
UID:25@kellydays.com
DTSTART:20231028T190000Z
DTEND:20231028T190000Z
DTSTAMP:20230926T110406Z
URL:https://kellydays.com/events/h-a-f-a-halloween-party/
SUMMARY:H.A.F.A. Halloween Party
DESCRIPTION:https://www.eventbrite.com/e/hafa-halloween-party-tickets-72162
 4186367\n\n
ATTACH;FMTTYPE=image/jpeg:https://kellydays.com/wp-content/uploads/2023/09
 /thumbnail_image.png
LOCATION:SALT\, 4600 Rickenbacker cswy\, Key Biscayne\, Fl\, 33149\, United
  States
GEO:25.733399;-80.162447
X-APPLE-STRUCTURED-LOCATION;VALUE=URI;X-ADDRESS=4600 Rickenbacker cswy\, Ke
 y Biscayne\, Fl\, 33149\, United States;X-APPLE-RADIUS=100;X-TITLE=SALT:ge
 o:25.733399,-80.162447
END:VEVENT
END:VCALENDAR