BEGIN:VCALENDAR
VERSION:2.0
PRODID:-//wp-events-plugin.com//7.2.1//EN
BEGIN:VEVENT
UID:26@kellydays.com
DTSTART:20231027T200000Z
DTEND:20231029T150000Z
DTSTAMP:20231004T174105Z
URL:https://kellydays.com/events/fire-brigade-3-day-event/
SUMMARY:FIRE BRIGADE 3 Day event
DESCRIPTION:
END:VEVENT
END:VCALENDAR