BEGIN:VCALENDAR
VERSION:2.0
PRODID:-//wp-events-plugin.com//7.2.1//EN
BEGIN:VEVENT
UID:27@kellydays.com
DTSTART:20231202T190000Z
DTEND:20231202T234500Z
DTSTAMP:20231029T175012Z
URL:https://kellydays.com/events/dcfba-adult-holiday-party/
SUMMARY:DCFBA Adult Holiday Party
DESCRIPTION:Good morning!\n\n\nAttached is the flyer for this years Adult H
 oliday Party along with the eventbrite link to purchase tickets.\nParking 
 for this event is via a valet ticket purchased on eventbrite as well.\nIf 
 you plan on using Uber to the party SEND US AN E-MAIL \, we are trying to
  work something out with UBER for the day of the event and would like to g
 et a number.\n\n\n\n\n\n​**This is the link for the Adult Holiday Party\
 , Dec 2nd:\nhttps://www.eventbrite.com/e/745595495197?aff=oddtdtcreator\n\
 n\n​\n**Reminder the Annual Family Picnic is a couple weeks away!  Make
  sure to RSVP below if you plan on attending.  It helps us figure out how
  much food and beverages we will      get.\n​**This is the link for t
 he Picnic\, Nov 11th:\nhttps://www.eventbrite.com/e/735616297147?aff=oddtd
 tcreator\n\n\n**Coming soon is our Annual Toy Drive at the Kids Holiday Pa
 rty on Dec 10th.  We will be posting a link in the next few days to RSVP 
 for this event.\n\n\nPlease contact our office\, should you have any quest
 ions\,\n\nDCFBA Office (305) 971-1203\n\nThank you
END:VEVENT
END:VCALENDAR