BEGIN:VCALENDAR
VERSION:2.0
PRODID:-//wp-events-plugin.com//7.2.1//EN
BEGIN:VEVENT
UID:12@kellydays.com
DTSTART:20230607T000000Z
DTEND:20230609T000000Z
DTSTAMP:20230426T130954Z
URL:https://kellydays.com/events/bare-bones-fishing-tournament/
SUMMARY:Bare Bones Fishing Tournament
DESCRIPTION:\n\n\n\n\n\n\n\n\n\n\n\n\n\n\n\n\n\n\n\n\n\n\n\n\n\n\n\n\n\n\n\
 n\n\n\n\n\n\n\n\n\n\nThe DCFBA Fishing Tournament \n Is two Months away
  \n \nCaptains Meeting is June 5th 2023 \n\n“Location is still TBA
 ” \n\n \n\nFishing Days are June 7th\, 8th\, 9th 2023 \n\n“Teams 
 are only allowed to weigh in one day” \n\n \n\nWeigh in will be at Mat
 heson Hammock Marina Fuel dock from 2-5 PM June 7th\, 8th\, 9th \n\n“W
 eigh in can be made by Boat or Car” \n\n“Docktails will be served und
 er the Mercedes Tent each day so if you are not fishing that day come on o
 ut and enjoy the weigh in.” \n\n \n\nAwards Party June 10th 11 am- 3
 pm \n\nAwards party will be at the Union Hall food and drinks will be ser
 ved. \n\n\n\n \nhttps://www.eventbrite.com/e/622440645727\n\n\n\n\n\n\n\
 n\n\n38th Annual DCFBA Fishing Tournament June 7\,8\,9\; 2023\nRegistratio
 n Deadline: May 15th\; Followed by an Awards Luncheon: June 10th at Loc
 al 1403 Fire Tower\nwww.eventbrite.com\n\n\n\n\n\n\n\n\nFor more info:\n\n
 \nTournament Director Chris Kavalir (786)586-3925\nGonzo Garcia (786) 27
 7-9686\nGabe Nemeth (305)281-1184\n\n\n\n\n\n\n\n\n\n\n\n\n\n\n\n\n\n\n\n
 \n\n\n\n\n\n\n\n\n\n\n\n\n\n\n
ATTACH;FMTTYPE=image/jpeg:https://kellydays.com/wp-content/uploads/2023/04
 /IMG_7165.jpg
END:VEVENT
END:VCALENDAR