BEGIN:VCALENDAR
VERSION:2.0
PRODID:-//wp-events-plugin.com//7.2.1//EN
BEGIN:VEVENT
UID:20@kellydays.com
DTSTART:20230802T000000Z
DTEND:20230802T000000Z
DTSTAMP:20230623T141831Z
URL:https://kellydays.com/events/2023-firefighters-poker-run/
SUMMARY:2023 FireFighters Poker Run
DESCRIPTION:
ATTACH;FMTTYPE=image/jpeg:https://kellydays.com/wp-content/uploads/2023/06
 /Untitled-design.jpg
LOCATION:Caribbean Club\, 104080 Overseas Hwy\, Key Largo\, Florida\, 33037
 \, United States
GEO:25.145096;-80.396895
X-APPLE-STRUCTURED-LOCATION;VALUE=URI;X-ADDRESS=104080 Overseas Hwy\, Key L
 argo\, Florida\, 33037\, United States;X-APPLE-RADIUS=100;X-TITLE=Caribbea
 n Club:geo:25.145096,-80.396895
END:VEVENT
END:VCALENDAR